BEGIN:VCALENDAR
VERSION:2.0
CALSCALE:GREGORIAN
METHOD:PUBLISH
PRODID://DDVA//209151
BEGIN:VEVENT
DTSTAMP:20260423T000807
VTIMEZONE:America/Denver
DTSTART:20260416T180000Z
DTEND:20260416T190000Z
UID:209151
SUMMARY:Diagnosis Imposter Syndrome:Â  A Webinar for Leaders of Volunteers
LOCATION:
DESCRIPTION:Diagnosis Imposter Syndrome:Â  A Webinar for Leaders of Volunteers\n\n04/16/26 12:00 PM MST\n - 04/16/26 01:00 PM MST\Description:\nAre you hearing whispers of doubt?  Do you think others will discover at any moment that you’re more of a fraud than a bona fide leader of volunteers?  That’s the problem so many of us face no matter where we are in our careers. Join us to talk about building self-confidence as we face and fight imposter syndrome as volunteer directors, managers and coordinators.  We will chat about this very common feeling, identify coping skills and figure out how to believe that we can be a great leader of volunteers! 
X-ALT-DESC;FMTTYPE=text/html:Diagnosis Imposter Syndrome:Â  A Webinar for Leaders of Volunteers<br /><br />04/16/26 12:00 PM MST - 04/16/26 01:00 PM MST<br />Description:<br /><strong data-olk-copy-source="MessageBody">Are you hearing whispers of doubt?&nbsp; Do you think others will discover at any moment that you&rsquo;re more of a fraud than a&nbsp;<em>bona fide</em>&nbsp;leader of volunteers?&nbsp; That&rsquo;s the problem so many of us face no matter where we are in our careers. Join us to talk about building self-confidence as we face and fight imposter syndrome as volunteer directors, managers and coordinators.&nbsp; We will chat about this very common feeling, identify coping skills and figure out how to believe that we can be a great leader of volunteers!&nbsp;</strong>
PRIORITY:3
TRANSP:TRANSPARENT
BEGIN:VALARM
TRIGGER:-PT5M
ACTION:DISPLAY
DESCRIPTION:Reminder
END:VALARM
END:VEVENT
END:VCALENDAR
